BEGIN:VCALENDAR
VERSION:2.0
PRODID:-//ChamberMaster//Event Calendar 2.0//EN
METHOD:PUBLISH
X-PUBLISHED-TTL:P1H
REFRESH-INTERVAL:P1H
CALSCALE:GREGORIAN
BEGIN:VTIMEZONE
TZID:America/New_York
BEGIN:DAYLIGHT
RRULE:FREQ=YEARLY;BYMONTH=3;BYDAY=2SU
DTSTART:20070101T000000
TZOFFSETFROM:-0500
TZOFFSETTO:-0400
TZNAME:Eastern Daylight Time
END:DAYLIGHT
BEGIN:STANDARD
RRULE:FREQ=YEARLY;BYMONTH=11;BYDAY=1SU
DTSTART:20070101T000000
TZOFFSETFROM:-0400
TZOFFSETTO:-0500
TZNAME:Eastern Standard Time
END:STANDARD
END:VTIMEZONE
BEGIN:VEVENT
DTSTART;TZID=America/New_York:20260409T100000
DTEND;TZID=America/New_York:20260409T103000
X-MICROSOFT-CDO-ALLDAYEVENT:FALSE
SUMMARY:Ribbon Cutting: Baptist Nassau Orthopedics
DESCRIPTION:Join us on Thursday\, April 9th\, 2026\, from 10:00 - 10:30 AM as we celebrate the new location of Baptist Nassau Orthopedics at the ribbon-cutting ceremony located at 1348 South 18th Street\, Building B\, Suite 200 in Fernandina Beach. The office is located on the second floor\, left of the elevator. The ribbon will be cut promptly at 10:00 AM.Baptist Nassau Orthopedics offers comprehensive\, personalized care for a wide range of orthopedic conditions through both advanced non-surgical treatments and minimally invasive surgical options to help patients reduce pain\, restore mobility\, and return to the activities they enjoy.Learn more today by visiting their website here.WHERE:Baptist Nassau Orthopedics\n1348 South 18th Street\, Building B\, Suite 200\nFernandina Beach\, FL 32034WHEN:\n\nThe ribbon will be cut promptly at 10:00 AM.To sign up for text message reminders\, click here.Are you interested in joining the Nassau County Chamber of Commerce? Have questions?Contact the Chamber at (904) 261-3248 or at Info@NassauCountyFLChamber.com for more information.
X-ALT-DESC;FMTTYPE=text/html:<!DOCTYPE html><html><head><title></title></head><body aria-disabled="false"><p><span style="font-size: 14px\;"><span style="color: rgb(51\, 51\, 51)\;">Join us on <strong fr-original-style="" style="font-weight: 700\;">Thursday\,</strong><strong fr-original-style="" style="font-weight: 700\;">&nbsp\;April 9th\, 2026\, from 10:00 - 10:30 AM</strong> as we celebrate the new location of&nbsp\;</span></span><span style="color: rgb(19\, 130\, 176)\;"><a fr-original-style="" href="https://business.islandchamber.com/member-directory/Details/baptist-medical-center-nassau-hospital-2913050" style="user-select: auto\; color: inherit\;"><strong fr-original-style="" style="font-weight: 700\;"><span style="font-size: 14px\;">Baptist Nassau Orthopedics</span></strong></a></span><span style="font-size: 14px\;">&nbsp\;<span style="color: rgb(51\, 51\, 51)\;">at the ribbon-cutting ceremony located at 1348 South 18th Street\, Building B\, Suite 200 in Fernandina Beach. The office is located on the second floor\, left of the elevator.&nbsp\;</span></span></p><p><span style="font-size: 14px\;"><strong fr-original-style="" style="font-weight: 700\;"><span style="color: rgb(51\, 51\, 51)\; background-color: rgb(255\, 255\, 255)\;">The ribbon will be cut promptly at 10:00 AM.</span></strong></span></p><p><span style="font-size: 14px\; color: rgb(51\, 51\, 51)\;">Baptist Nassau Orthopedics offers comprehensive\, personalized care for a wide range of orthopedic conditions through both advanced non-surgical treatments and minimally invasive surgical options to help patients reduce pain\, restore mobility\, and return to the activities they enjoy.</span></p><p><span style="font-size: 14px\;"><span style="color: rgb(51\, 51\, 51)\;">Learn more today by visiting their website&nbsp\;</span><span style="color: rgb(19\, 130\, 176)\;"><a fr-original-style="" href="https://www.baptistjax.com/doctors/baptist-orthopedics" style="user-select: auto\; color: inherit\;">here</a></span>.</span></p><p><span style="font-size: 14px\;"><strong fr-original-style="" style="font-weight: 700\;"><span style="color: rgb(51\, 51\, 51)\;">WHERE:</span></strong></span></p><p><span style="color: rgb(19\, 130\, 176)\;"><a fr-original-style="" href="https://business.islandchamber.com/member-directory/Details/baptist-medical-center-nassau-hospital-2913050" style="user-select: auto\; color: inherit\;"><strong fr-original-style="" style="font-weight: 700\;"><span style="font-size: 14px\;">Baptist Nassau Orthopedics</span></strong></a></span><span style="font-size: 14px\;"><br><span style="font-size: 14px\;"><span style="color: rgb(51\, 51\, 51)\;">1348 South 18th Street\, Building B\, Suite 200</span></span><span style="color: rgb(51\, 51\, 51)\;"><br><span style="font-size: 14px\;"><span style="color: rgb(51\, 51\, 51)\;">Fernandina Beach\,</span></span> FL 32034</span></span></p><p><span style="font-size: 14px\; color: rgb(51\, 51\, 51)\;"><strong fr-original-style="" style="font-weight: 700\;">WHEN:</strong><br><br>The ribbon will be cut promptly at 10:00 AM.</span></p><div align="center" style="text-align:center\;"><span style="font-size: 14px\; color: rgb(51\, 51\, 51)\;"><hr size="2" width="100%" style="color: black\; clear: both\; user-select: none\; break-after: page\;" align="center" fr-original-style="color:black\;"></span></div><p><span style="font-size: 14px\;"><strong fr-original-style="" style="font-weight: 700\;"><span style="color: rgb(51\, 51\, 51)\;">To sign up for text message reminders\,&nbsp\;</span><span style="color: rgb(19\, 130\, 176)\;"><a fr-original-style="" href="http://mobile-text-alerts.com/NassauCountyChamber" style="user-select: auto\; color: inherit\;">click here</a></span>.</strong></span></p><p><span style="font-size: 14px\;"><strong fr-original-style="" style="font-weight: 700\;"><span style="color: rgb(51\, 51\, 51)\;">Are you interested in joining the Nassau County Chamber of Commerce?</span></strong><span style="color: rgb(51\, 51\, 51)\;">&nbsp\;Have questions?</span></span></p><p><span style="font-size: 14px\; color: rgb(51\, 51\, 51)\;">Contact the Chamber at (904) 261-3248 or at&nbsp\;</span><span style="font-size: 14px\; color: rgb(19\, 130\, 176)\;"><strong fr-original-style="" style="font-weight: 700\;">Info</strong><strong fr-original-style="" style="font-weight: 700\;">@</strong><strong fr-original-style="" style="font-weight: 700\;">NassauCountyFLChamber.com</strong></span><span style="font-size: 14px\; color: rgb(51\, 51\, 51)\;">&nbsp\;for more information.</span></p></body></html>
LOCATION:1348 South 18th Street\, Building B Fernandina Beach FL 32034
UID:e.3552.1434929
SEQUENCE:3
DTSTAMP:20260421T105501Z
URL:https://business.islandchamber.com/chambereventscalendar/Details/ribbon-cutting-baptist-nassau-orthopedics-1698493?sourceTypeId=Hub
END:VEVENT
END:VCALENDAR
