BEGIN:VCALENDAR
VERSION:2.0
PRODID:-//ChamberMaster//Event Calendar 2.0//EN
METHOD:PUBLISH
X-PUBLISHED-TTL:P1H
REFRESH-INTERVAL:P1H
CALSCALE:GREGORIAN
BEGIN:VTIMEZONE
TZID:America/New_York
BEGIN:DAYLIGHT
RRULE:FREQ=YEARLY;BYMONTH=3;BYDAY=2SU
DTSTART:20070101T000000
TZOFFSETFROM:-0500
TZOFFSETTO:-0400
TZNAME:Eastern Daylight Time
END:DAYLIGHT
BEGIN:STANDARD
RRULE:FREQ=YEARLY;BYMONTH=11;BYDAY=1SU
DTSTART:20070101T000000
TZOFFSETFROM:-0400
TZOFFSETTO:-0500
TZNAME:Eastern Standard Time
END:STANDARD
END:VTIMEZONE
BEGIN:VEVENT
DTSTART;TZID=America/New_York:20260519T120000
DTEND;TZID=America/New_York:20260519T123000
X-MICROSOFT-CDO-ALLDAYEVENT:FALSE
SUMMARY:Ribbon Cutting: Coastal Health Primary Care | Yulee
DESCRIPTION:Join us on Tuesday\, May 19th\, 2026\, from 12:00 - 12:30 PM as we celebrate the grand opening of Coastal Health Primary Care | Yulee at the ribbon-cutting ceremony located at 463380 SR 200\, Unit B\, in Yulee.The ribbon will be cut promptly at 12:00 PM.Coastal Health Primary Care provides comprehensive\, patient-centered healthcare for all ages\, including preventive care\, routine checkups\, and treatment of acute and chronic conditions\, along with specialized services like pediatrics\, women's health\, and geriatrics.Learn more by visiting their website here.WHERE:Coastal Health Primary Care | Yulee\n463380 SR 200\, Unit B\nYulee\, FL 32097WHEN:\n\nThe ribbon will be cut promptly at 12:00 PM.To sign up for text message reminders\, click here.Are you interested in joining the Nassau County Chamber of Commerce? Have questions?Contact the Chamber at (904) 261-3248 or at Info@NassauCountyFLChamber.com for more information.
X-ALT-DESC;FMTTYPE=text/html:<!DOCTYPE html><html><head><title></title></head><body aria-disabled="false"><p><span style="font-size: 14px\;"><span style="color: rgb(51\, 51\, 51)\;">Join us on <strong fr-original-style="" style="font-weight: 700\;">Tuesday</strong><strong fr-original-style="" style="font-weight: 700\;">\,</strong><strong fr-original-style="" style="font-weight: 700\;">&nbsp\;May 19th\, 2026\, from 12:00 - 12:30 PM</strong> as we celebrate the grand opening of&nbsp\;</span></span><span style="color: rgb(19\, 130\, 176)\;"><a fr-original-style="" href="https://business.nassaucountyflchamber.com/member-directory/Details/coastal-health-primary-care-yulee-4732087" style="user-select: auto\; color: inherit\;"><strong fr-original-style="" style="font-weight: 700\;"><span style="font-size: 14px\;">Coastal Health Primary Care | Yulee</span></strong></a></span><span style="font-size: 14px\;">&nbsp\;<span style="color: rgb(51\, 51\, 51)\;">at the ribbon-cutting ceremony located at 463380 SR 200\, Unit B\, in Yulee.</span></span></p><p><span style="font-size: 14px\;"><strong fr-original-style="" style="font-weight: 700\;"><span style="color: rgb(51\, 51\, 51)\;">The ribbon will be cut promptly at 12:00 PM.</span></strong></span></p><p><span style="font-size: 14px\; color: rgb(51\, 51\, 51)\;">Coastal Health Primary Care provides comprehensive\, patient-centered healthcare for all ages\, including preventive care\, routine checkups\, and treatment of acute and chronic conditions\, along with specialized services like pediatrics\, women&rsquo\;s health\, and geriatrics.</span></p><p><span style="font-size: 14px\;"><span style="color: rgb(51\, 51\, 51)\;">Learn more by visiting their website&nbsp\;</span><span style="color: rgb(19\, 130\, 176)\;"><a fr-original-style="" href="https://coastalhealthprimarycare.com/" style="user-select: auto\; color: inherit\;">here</a></span>.</span></p><p><span style="font-size: 14px\;"><strong fr-original-style="" style="font-weight: 700\;"><span style="color: rgb(51\, 51\, 51)\;">WHERE:</span></strong></span></p><p><span style="color: rgb(19\, 130\, 176)\;"><a fr-original-style="" href="https://business.nassaucountyflchamber.com/member-directory/Details/coastal-health-primary-care-yulee-4732087" style="user-select: auto\; color: inherit\;"><strong fr-original-style="" style="font-weight: 700\;"><span style="font-size: 14px\;">Coastal Health Primary Care | Yulee</span></strong></a></span><span style="font-size: 14px\;"><br><span style="font-size: 14px\;"><span style="color: rgb(51\, 51\, 51)\;">463380 SR 200\, Unit B</span></span><span style="color: rgb(51\, 51\, 51)\;"><br><span style="font-size: 14px\;"><span style="color: rgb(51\, 51\, 51)\;">Yulee\,</span></span> FL 32097</span></span></p><p><span style="font-size: 14px\; color: rgb(51\, 51\, 51)\;"><strong fr-original-style="" style="font-weight: 700\;">WHEN:</strong><br><br>The ribbon will be cut promptly at 12:00 PM.</span></p><div align="center" style="text-align:center\;"><span style="font-size: 14px\; color: rgb(51\, 51\, 51)\;"><hr size="2" width="100%" style="color: black\; clear: both\; user-select: none\; break-after: page\;" align="center" fr-original-style="color:black\;"></span></div><p><span style="font-size: 14px\;"><strong fr-original-style="" style="font-weight: 700\;"><span style="color: rgb(51\, 51\, 51)\;">To sign up for text message reminders\,&nbsp\;</span><span style="color: rgb(19\, 130\, 176)\;"><a fr-original-style="" href="http://mobile-text-alerts.com/NassauCountyChamber" style="user-select: auto\; color: inherit\;">click here</a></span>.</strong></span></p><p><span style="font-size: 14px\;"><strong fr-original-style="" style="font-weight: 700\;"><span style="color: rgb(51\, 51\, 51)\;">Are you interested in joining the Nassau County Chamber of Commerce?</span></strong><span style="color: rgb(51\, 51\, 51)\;">&nbsp\;Have questions?</span></span></p><p><span style="font-size: 14px\; color: rgb(51\, 51\, 51)\;">Contact the Chamber at (904) 261-3248 or at&nbsp\;</span><span style="font-size: 14px\; color: rgb(19\, 130\, 176)\;"><strong fr-original-style="" style="font-weight: 700\;">Info</strong><strong fr-original-style="" style="font-weight: 700\;">@NassauCountyFLC</strong><strong fr-original-style="" style="font-weight: 700\;">hamber.com</strong></span><span style="font-size: 14px\; color: rgb(51\, 51\, 51)\;">&nbsp\;for more information.</span></p></body></html>
LOCATION:463380 SR-200\, Unit B Yulee FL 32097
UID:e.3552.1439144
SEQUENCE:3
DTSTAMP:20260421T105001Z
URL:https://business.islandchamber.com/chambereventscalendar/Details/ribbon-cutting-coastal-health-primary-care-yulee-1703364?sourceTypeId=Hub
END:VEVENT
END:VCALENDAR
