BEGIN:VCALENDAR
VERSION:2.0
PRODID:-//ChamberMaster//Event Calendar 2.0//EN
METHOD:PUBLISH
X-PUBLISHED-TTL:P1H
REFRESH-INTERVAL:P1H
CALSCALE:GREGORIAN
BEGIN:VTIMEZONE
TZID:America/New_York
BEGIN:DAYLIGHT
RRULE:FREQ=YEARLY;BYMONTH=3;BYDAY=2SU
DTSTART:20070101T000000
TZOFFSETFROM:-0500
TZOFFSETTO:-0400
TZNAME:Eastern Daylight Time
END:DAYLIGHT
BEGIN:STANDARD
RRULE:FREQ=YEARLY;BYMONTH=11;BYDAY=1SU
DTSTART:20070101T000000
TZOFFSETFROM:-0400
TZOFFSETTO:-0500
TZNAME:Eastern Standard Time
END:STANDARD
END:VTIMEZONE
BEGIN:VEVENT
DTSTART;TZID=America/New_York:20260424T100000
DTEND;TZID=America/New_York:20260424T150000
X-MICROSOFT-CDO-ALLDAYEVENT:FALSE
SUMMARY:LGI Homes @ Whisper Ridge Community - Spring Sales Event
DESCRIPTION:📢 REALTORS!!!!!Join us for an exclusive event designed to help your clients take the next step toward owning their dream home\, just in time before our Spring incentives end!\n✨ What to Expect:✔️ Tour the FINAL homes available✔️ 💰 Learn about 100% USDA Financing✔️ 📊 FREE Credit Review & Guidance✔️ 🏦 Get Pre-Qualified On-Site with a lender✔️ 🎓 First-Time Homebuyer Workshops✔️ 🥂 Light Bites + Refreshments
X-ALT-DESC;FMTTYPE=text/html:<!DOCTYPE html><html><head><title></title></head><body aria-disabled="false"><p style="box-sizing: inherit\; margin: 0px\; color: rgb(16\, 27\, 33)\; font-family: Brut\, sans-serif\; font-size: 16px\; font-style: normal\; font-variant-ligatures: normal\; font-variant-caps: normal\; font-weight: 400\; letter-spacing: normal\; orphans: 2\; text-align: start\; text-indent: 0px\; text-transform: none\; widows: 2\; word-spacing: 0px\; -webkit-text-stroke-width: 0px\; white-space: pre-line\; background-color: rgba(255\, 255\, 255\, 0.85)\; text-decoration-thickness: initial\; text-decoration-style: initial\; text-decoration-color: initial\;">📢 REALTORS!!!!!</p><p style="box-sizing: inherit\; margin: 0px\; color: rgb(16\, 27\, 33)\; font-family: Brut\, sans-serif\; font-size: 16px\; font-style: normal\; font-variant-ligatures: normal\; font-variant-caps: normal\; font-weight: 400\; letter-spacing: normal\; orphans: 2\; text-align: start\; text-indent: 0px\; text-transform: none\; widows: 2\; word-spacing: 0px\; -webkit-text-stroke-width: 0px\; white-space: pre-line\; background-color: rgba(255\, 255\, 255\, 0.85)\; text-decoration-thickness: initial\; text-decoration-style: initial\; text-decoration-color: initial\;">Join us for an exclusive event designed to help your clients take the next step toward owning their dream home\, just in time before our Spring incentives end!</p><p style="box-sizing: inherit\; margin: 0px\; color: rgb(16\, 27\, 33)\; font-family: Brut\, sans-serif\; font-size: 16px\; font-style: normal\; font-variant-ligatures: normal\; font-variant-caps: normal\; font-weight: 400\; letter-spacing: normal\; orphans: 2\; text-align: start\; text-indent: 0px\; text-transform: none\; widows: 2\; word-spacing: 0px\; -webkit-text-stroke-width: 0px\; white-space: pre-line\; background-color: rgba(255\, 255\, 255\, 0.85)\; text-decoration-thickness: initial\; text-decoration-style: initial\; text-decoration-color: initial\;"><br></p><p style="box-sizing: inherit\; margin: 0px\; color: rgb(16\, 27\, 33)\; font-family: Brut\, sans-serif\; font-size: 16px\; font-style: normal\; font-variant-ligatures: normal\; font-variant-caps: normal\; font-weight: 400\; letter-spacing: normal\; orphans: 2\; text-align: start\; text-indent: 0px\; text-transform: none\; widows: 2\; word-spacing: 0px\; -webkit-text-stroke-width: 0px\; white-space: pre-line\; background-color: rgba(255\, 255\, 255\, 0.85)\; text-decoration-thickness: initial\; text-decoration-style: initial\; text-decoration-color: initial\;">✨ <strong fr-original-style="box-sizing: inherit\; font-weight: 500\;" style="box-sizing: inherit\; font-weight: 500\;">What to Expect:</strong></p><p style="box-sizing: inherit\; margin: 0px\; color: rgb(16\, 27\, 33)\; font-family: Brut\, sans-serif\; font-size: 16px\; font-style: normal\; font-variant-ligatures: normal\; font-variant-caps: normal\; font-weight: 400\; letter-spacing: normal\; orphans: 2\; text-align: start\; text-indent: 0px\; text-transform: none\; widows: 2\; word-spacing: 0px\; -webkit-text-stroke-width: 0px\; white-space: pre-line\; background-color: rgba(255\, 255\, 255\, 0.85)\; text-decoration-thickness: initial\; text-decoration-style: initial\; text-decoration-color: initial\;">✔️ Tour the <strong fr-original-style="box-sizing: inherit\; font-weight: 500\;" style="box-sizing: inherit\; font-weight: 500\;">FINAL homes available</strong></p><p style="box-sizing: inherit\; margin: 0px\; color: rgb(16\, 27\, 33)\; font-family: Brut\, sans-serif\; font-size: 16px\; font-style: normal\; font-variant-ligatures: normal\; font-variant-caps: normal\; font-weight: 400\; letter-spacing: normal\; orphans: 2\; text-align: start\; text-indent: 0px\; text-transform: none\; widows: 2\; word-spacing: 0px\; -webkit-text-stroke-width: 0px\; white-space: pre-line\; background-color: rgba(255\, 255\, 255\, 0.85)\; text-decoration-thickness: initial\; text-decoration-style: initial\; text-decoration-color: initial\;">✔️ 💰 Learn about <strong fr-original-style="box-sizing: inherit\; font-weight: 500\;" style="box-sizing: inherit\; font-weight: 500\;">100% USDA Financing</strong></p><p style="box-sizing: inherit\; margin: 0px\; color: rgb(16\, 27\, 33)\; font-family: Brut\, sans-serif\; font-size: 16px\; font-style: normal\; font-variant-ligatures: normal\; font-variant-caps: normal\; font-weight: 400\; letter-spacing: normal\; orphans: 2\; text-align: start\; text-indent: 0px\; text-transform: none\; widows: 2\; word-spacing: 0px\; -webkit-text-stroke-width: 0px\; white-space: pre-line\; background-color: rgba(255\, 255\, 255\, 0.85)\; text-decoration-thickness: initial\; text-decoration-style: initial\; text-decoration-color: initial\;">✔️ 📊 <strong fr-original-style="box-sizing: inherit\; font-weight: 500\;" style="box-sizing: inherit\; font-weight: 500\;">FREE Credit Review &amp\; Guidance</strong></p><p style="box-sizing: inherit\; margin: 0px\; color: rgb(16\, 27\, 33)\; font-family: Brut\, sans-serif\; font-size: 16px\; font-style: normal\; font-variant-ligatures: normal\; font-variant-caps: normal\; font-weight: 400\; letter-spacing: normal\; orphans: 2\; text-align: start\; text-indent: 0px\; text-transform: none\; widows: 2\; word-spacing: 0px\; -webkit-text-stroke-width: 0px\; white-space: pre-line\; background-color: rgba(255\, 255\, 255\, 0.85)\; text-decoration-thickness: initial\; text-decoration-style: initial\; text-decoration-color: initial\;">✔️ 🏦 Get <strong fr-original-style="box-sizing: inherit\; font-weight: 500\;" style="box-sizing: inherit\; font-weight: 500\;">Pre-Qualified On-Site</strong> with a lender</p><p style="box-sizing: inherit\; margin: 0px\; color: rgb(16\, 27\, 33)\; font-family: Brut\, sans-serif\; font-size: 16px\; font-style: normal\; font-variant-ligatures: normal\; font-variant-caps: normal\; font-weight: 400\; letter-spacing: normal\; orphans: 2\; text-align: start\; text-indent: 0px\; text-transform: none\; widows: 2\; word-spacing: 0px\; -webkit-text-stroke-width: 0px\; white-space: pre-line\; background-color: rgba(255\, 255\, 255\, 0.85)\; text-decoration-thickness: initial\; text-decoration-style: initial\; text-decoration-color: initial\;">✔️ 🎓 <strong fr-original-style="box-sizing: inherit\; font-weight: 500\;" style="box-sizing: inherit\; font-weight: 500\;">First-Time Homebuyer Workshops</strong></p><p style="box-sizing: inherit\; margin: 0px\; color: rgb(16\, 27\, 33)\; font-family: Brut\, sans-serif\; font-size: 16px\; font-style: normal\; font-variant-ligatures: normal\; font-variant-caps: normal\; font-weight: 400\; letter-spacing: normal\; orphans: 2\; text-align: start\; text-indent: 0px\; text-transform: none\; widows: 2\; word-spacing: 0px\; -webkit-text-stroke-width: 0px\; white-space: pre-line\; background-color: rgba(255\, 255\, 255\, 0.85)\; text-decoration-thickness: initial\; text-decoration-style: initial\; text-decoration-color: initial\;">✔️ 🥂 Light Bites + Refreshments</p></body></html>
LOCATION:37266 Whisper Way Hilliard 32046
UID:e.3552.1444550
SEQUENCE:3
DTSTAMP:20260422T045321Z
URL:https://business.islandchamber.com/chambereventscalendar/Details/lgi-homes-whisper-ridge-community-spring-sales-event-1710925?sourceTypeId=Hub
END:VEVENT
END:VCALENDAR
